BEGIN:VCALENDAR
VERSION:2.0
PRODID:-//桐蔭横浜大学サッカー部 - ECPv6.2.9//NONSGML v1.0//EN
CALSCALE:GREGORIAN
METHOD:PUBLISH
X-WR-CALNAME:桐蔭横浜大学サッカー部
X-ORIGINAL-URL:https://toin-soccer.com
X-WR-CALDESC:桐蔭横浜大学サッカー部 のイベント
REFRESH-INTERVAL;VALUE=DURATION:PT1H
X-Robots-Tag:noindex
X-PUBLISHED-TTL:PT1H
BEGIN:VTIMEZONE
TZID:Asia/Tokyo
BEGIN:STANDARD
TZOFFSETFROM:+0900
TZOFFSETTO:+0900
TZNAME:JST
DTSTART:20260101T000000
END:STANDARD
END:VTIMEZONE
BEGIN:VEVENT
DTSTART;VALUE=DATE:20260420
DTEND;VALUE=DATE:20260421
DTSTAMP:20260420T015755
CREATED:20260410T104337Z
LAST-MODIFIED:20260410T104337Z
UID:25290-1776643200-1776729599@toin-soccer.com
SUMMARY:OFF
DESCRIPTION:
URL:https://toin-soccer.com/event/off-66/
CATEGORIES:SCHEDULE
END:VEVENT
END:VCALENDAR